BEGIN:VCALENDAR
VERSION:2.0
PRODID:-//De Groene Oase - ECPv5.16.4//NONSGML v1.0//EN
CALSCALE:GREGORIAN
METHOD:PUBLISH
X-ORIGINAL-URL:https://mail.degroeneoase.eu
X-WR-CALDESC:Evenementen voor De Groene Oase
REFRESH-INTERVAL;VALUE=DURATION:PT1H
X-Robots-Tag:noindex
X-PUBLISHED-TTL:PT1H
BEGIN:VTIMEZONE
TZID:Europe/Amsterdam
BEGIN:DAYLIGHT
TZOFFSETFROM:+0100
TZOFFSETTO:+0200
TZNAME:CEST
DTSTART:20250330T010000
END:DAYLIGHT
BEGIN:STANDARD
TZOFFSETFROM:+0200
TZOFFSETTO:+0100
TZNAME:CET
DTSTART:20251026T010000
END:STANDARD
END:VTIMEZONE
BEGIN:VEVENT
DTSTART;VALUE=DATE:20250801
DTEND;VALUE=DATE:20250802
DTSTAMP:20260417T211816
CREATED:20250311T040438Z
LAST-MODIFIED:20250311T040438Z
UID:6298-1754006400-1754092799@mail.degroeneoase.eu
SUMMARY:Augustus oogstmaand viering
DESCRIPTION:Dit vieren wij door samen bramen te plukken en op vrijdagmiddag/avond ontstaan er (bij goed weer) spontaan gezellige bbq’s.\nWil jij hieraan deelnemen om je kookkunsten te verspreiden? Wees welkom!
URL:https://mail.degroeneoase.eu/agenda/augustus-oogstmaand-viering/
LOCATION:De Groene oase\, Kanaaldijk 1\, Koedijk\, Noord Holland\, 1832 AA
CATEGORIES:De groene oase
END:VEVENT
END:VCALENDAR