BEGIN:VCALENDAR
VERSION:2.0
PRODID:-//De Groene Oase - ECPv5.16.4//NONSGML v1.0//EN
CALSCALE:GREGORIAN
METHOD:PUBLISH
X-WR-CALNAME:De Groene Oase
X-ORIGINAL-URL:https://mail.degroeneoase.eu
X-WR-CALDESC:Evenementen voor De Groene Oase
REFRESH-INTERVAL;VALUE=DURATION:PT1H
X-Robots-Tag:noindex
X-PUBLISHED-TTL:PT1H
BEGIN:VTIMEZONE
TZID:Europe/Amsterdam
BEGIN:DAYLIGHT
TZOFFSETFROM:+0100
TZOFFSETTO:+0200
TZNAME:CEST
DTSTART:20250330T010000
END:DAYLIGHT
BEGIN:STANDARD
TZOFFSETFROM:+0200
TZOFFSETTO:+0100
TZNAME:CET
DTSTART:20251026T010000
END:STANDARD
END:VTIMEZONE
BEGIN:VEVENT
DTSTART;TZID=Europe/Amsterdam:20251031T100000
DTEND;TZID=Europe/Amsterdam:20251031T150000
DTSTAMP:20260421T224954
CREATED:20250311T041745Z
LAST-MODIFIED:20250311T041745Z
UID:6303-1761904800-1761922800@mail.degroeneoase.eu
SUMMARY:Natuurwerkdag
DESCRIPTION:Natuurwerkdag is een initiatief van Landschappen n-h. Jong en oud zijn welkom om ons gezamenlijk in te zetten voor de leefomgeving van planten en dieren. Wij vieren de natuurwerkdag op 31 oktober en/of 1 november van 10:00 tot 15:00 uur. \nDe exacte datum wordt later dit jaar bepaald.
URL:https://mail.degroeneoase.eu/agenda/natuurwerkdag/
LOCATION:De Groene oase\, Kanaaldijk 1\, Koedijk\, Noord Holland\, 1832 AA
ATTACH;FMTTYPE=image/webp:https://mail.degroeneoase.eu/wp-content/uploads/2022/10/natuurwerkdag_nov_2017_14.jpg.webp
END:VEVENT
END:VCALENDAR