BEGIN:VCALENDAR
VERSION:2.0
PRODID:-//De Groene Oase - ECPv5.16.4//NONSGML v1.0//EN
CALSCALE:GREGORIAN
METHOD:PUBLISH
X-WR-CALNAME:De Groene Oase
X-ORIGINAL-URL:https://mail.degroeneoase.eu
X-WR-CALDESC:Evenementen voor De Groene Oase
REFRESH-INTERVAL;VALUE=DURATION:PT1H
X-Robots-Tag:noindex
X-PUBLISHED-TTL:PT1H
BEGIN:VTIMEZONE
TZID:Europe/Amsterdam
BEGIN:DAYLIGHT
TZOFFSETFROM:+0100
TZOFFSETTO:+0200
TZNAME:CEST
DTSTART:20250330T010000
END:DAYLIGHT
BEGIN:STANDARD
TZOFFSETFROM:+0200
TZOFFSETTO:+0100
TZNAME:CET
DTSTART:20251026T010000
END:STANDARD
END:VTIMEZONE
BEGIN:VEVENT
DTSTART;VALUE=DATE:20250801
DTEND;VALUE=DATE:20250802
DTSTAMP:20260422T012754
CREATED:20250311T040438Z
LAST-MODIFIED:20250311T040438Z
UID:6298-1754006400-1754092799@mail.degroeneoase.eu
SUMMARY:Augustus oogstmaand viering
DESCRIPTION:Dit vieren wij door samen bramen te plukken en op vrijdagmiddag/avond ontstaan er (bij goed weer) spontaan gezellige bbq’s.\nWil jij hieraan deelnemen om je kookkunsten te verspreiden? Wees welkom!
URL:https://mail.degroeneoase.eu/agenda/augustus-oogstmaand-viering/
LOCATION:De Groene oase\, Kanaaldijk 1\, Koedijk\, Noord Holland\, 1832 AA
CATEGORIES:De groene oase
END:VEVENT
BEGIN:VEVENT
DTSTART;TZID=Europe/Amsterdam:20250623T190000
DTEND;TZID=Europe/Amsterdam:20250624T000000
DTSTAMP:20260422T012754
CREATED:20250311T035735Z
LAST-MODIFIED:20250311T041330Z
UID:6295-1750705200-1750723200@mail.degroeneoase.eu
SUMMARY:Midzomer Sint Jans nacht
DESCRIPTION:De nacht van 23 op 24 juni vieren wij de Midzomer Sint Jans nacht (als de weergoden gunstig gezind zijn)\, de zomerzonnewende. Aanvang 19:00 tot middernacht. Neem je muziekinstrument mee en hapjes om te delen.
URL:https://mail.degroeneoase.eu/agenda/midzomer-sint-jans-nacht-2025/
LOCATION:De Groene oase\, Kanaaldijk 1\, Koedijk\, Noord Holland\, 1832 AA
CATEGORIES:De groene oase
ATTACH;FMTTYPE=image/png:https://mail.degroeneoase.eu/wp-content/uploads/2025/03/Midzomer-nacht-2.png
END:VEVENT
BEGIN:VEVENT
DTSTART;TZID=Europe/Amsterdam:20250422T100000
DTEND;TZID=Europe/Amsterdam:20250422T150000
DTSTAMP:20260422T012754
CREATED:20250311T033931Z
LAST-MODIFIED:20250311T034237Z
UID:6287-1745316000-1745334000@mail.degroeneoase.eu
SUMMARY:Nationale Zaaidag 2025
DESCRIPTION:De Bijenstichting en Stichting Bijenvrienden roepen iedereen op om bloemstroken aan te leggen zodat er één groot bloemenlint voor bijen ontstaat. Wij zaaien van 10:00 tot 15:00 uur. \n\n 
URL:https://mail.degroeneoase.eu/agenda/nationale-zaaidag-2025/
LOCATION:De Groene oase\, Kanaaldijk 1\, Koedijk\, Noord Holland\, 1832 AA
CATEGORIES:De groene oase
ATTACH;FMTTYPE=image/png:https://mail.degroeneoase.eu/wp-content/uploads/2025/03/Screenshot-2025-03-11-at-04.42.19.png
END:VEVENT
END:VCALENDAR